BEGIN:VCALENDAR
VERSION:2.0
PRODID:-//FUNESA - ECPv6.15.20//NONSGML v1.0//EN
CALSCALE:GREGORIAN
METHOD:PUBLISH
X-WR-CALNAME:FUNESA
X-ORIGINAL-URL:https://funesa.se.gov.br
X-WR-CALDESC:Eventos para FUNESA
REFRESH-INTERVAL;VALUE=DURATION:PT1H
X-Robots-Tag:noindex
X-PUBLISHED-TTL:PT1H
BEGIN:VTIMEZONE
TZID:America/Bahia
BEGIN:STANDARD
TZOFFSETFROM:-0300
TZOFFSETTO:-0300
TZNAME:-03
DTSTART:20250101T030000
END:STANDARD
END:VTIMEZONE
BEGIN:VEVENT
DTSTART;TZID=America/Bahia:20260429T110000
DTEND;TZID=America/Bahia:20260429T150000
DTSTAMP:20260424T105343
CREATED:20260424T105354Z
LAST-MODIFIED:20260424T105356Z
UID:27236-1777460400-1777474800@funesa.se.gov.br
SUMMARY:CAPACITAÇÃO SOBRE TRIAGEM NEONATAL
DESCRIPTION:Local: AUDITÓRIO DA UNIT (Município de Estância) \n\n\n\nA ação tem como objetivo capacitar profissionais da Atenção Primária à Saúde sobre a importância\, os fluxos corretos e as responsabilidades das equipes no processo de triagem neonatal\, com foco na coleta adequada\, registro\, encaminhamento e acompanhamento dos casos identificados\, garantindo a detecção precoce e o cuidado integral às crianças no âmbito do SUS.  \n\n\n\nO público-alvo será composto por profissionais da Atenção Primária à Saúde.
URL:https://funesa.se.gov.br/event/capacitacao-sobre-triagem-neonatal/
END:VEVENT
BEGIN:VEVENT
DTSTART;TZID=America/Bahia:20260429T110000
DTEND;TZID=America/Bahia:20260429T200000
DTSTAMP:20260424T105343
CREATED:20260424T105313Z
LAST-MODIFIED:20260424T105314Z
UID:27234-1777460400-1777492800@funesa.se.gov.br
SUMMARY:CAPACITAÇÃO SOBRE VIGILÂNCIA E MANEJO CLÍNICO DO HTLV
DESCRIPTION:Local:  FUNESA \n\n\n\nA ação tem como objetivo capacitar as equipes da atenção primária à saúde para ampliar as habilidades para o diagnóstico e manejo clínico do HTLV.  \n\n\n\nO público-alvo será composto por médicos e enfermeiros da Atenção Primária à Saúde\, Serviço de Assistência Especializada (SAE) e hospitais.
URL:https://funesa.se.gov.br/event/capacitacao-sobre-vigilancia-e-manejo-clinico-do-htlv-2/
END:VEVENT
END:VCALENDAR